BEGIN:VCALENDAR
VERSION:2.0
PRODID:-//ΕΣΚΟΘ - ΟΠΣΘ - ECPv4.5.0.2//NONSGML v1.0//EN
CALSCALE:GREGORIAN
METHOD:PUBLISH
X-WR-CALNAME:ΕΣΚΟΘ - ΟΠΣΘ
X-ORIGINAL-URL:http://eskoth.gr
X-WR-CALDESC:Events for ΕΣΚΟΘ - ΟΠΣΘ
BEGIN:VEVENT
DTSTART;TZID=Europe/Athens:20251119T160000
DTEND;TZID=Europe/Athens:20251201T130000
DTSTAMP:20260420T153923
CREATED:20251119T183416Z
LAST-MODIFIED:20251124T173402Z
UID:4850-1763568000-1764594000@eskoth.gr
SUMMARY:ΕΣΚΟΘ Αγώνες Αεροβόλων 28-29-30 Νοεμβρίου 2025
DESCRIPTION:Την Παρασκευή 28 Νοεμβρίου\, το Σάββατο 29 Νοεμβρίου και την Κυριακή 30 Νοεμβρίου 2025 ο ΕΣΚΟΘ διοργανώνει αγώνες αεροβόλων όπλων Α' κατηγορίας ΑΓΕΝ Παίδων A-Παίδων Β'- "Κύπελλο Μακεδονίας"\, στο σκοπευτήριο Παύλου Μελά στην Σταυρούπολη.\n\nΠΡΟΚΗΡΥΞΗ ΑΕΡΟΒΟΛΩΝ 28\,29\,30 ΝΟΕΜΒΡΙΟΥ 2025\n\n \n\n[tt_timetable event='agones-aerobolon' columns='saturday\,sunday' filter_style='tabs' filter_label='ΟΛΑ' hide_hours_column='0' show_end_hour='1' measure='1' event_layout='3' collapse_event_hours_responsive='1']
URL:http://eskoth.gr/event/%ce%b5%cf%83%ce%ba%ce%bf%ce%b8-%ce%b1%ce%b3%cf%8e%ce%bd%ce%b5%cf%82-%ce%b1%ce%b5%cf%81%ce%bf%ce%b2%cf%8c%ce%bb%cf%89%ce%bd-28-29-30-%ce%bd%ce%bf%ce%b5%ce%bc%ce%b2%cf%81%ce%af%ce%bf%cf%85-2025%ce%bf/
LOCATION:Λεβαντή 4\, Θεσσαλονίκη\, Σταυρούπολη\, 54629\, Greece
CATEGORIES:Αγώνες
ORGANIZER;CN="%CE%95%CE%A3%CE%9A%CE%9F%CE%98":MAILTO:eskoth.opsth@gmail.com
END:VEVENT
END:VCALENDAR