BEGIN:VCALENDAR
VERSION:2.0
PRODID:-//ΕΣΚΟΘ - ΟΠΣΘ - ECPv4.5.0.2//NONSGML v1.0//EN
CALSCALE:GREGORIAN
METHOD:PUBLISH
X-WR-CALNAME:ΕΣΚΟΘ - ΟΠΣΘ
X-ORIGINAL-URL:http://eskoth.gr
X-WR-CALDESC:Events for ΕΣΚΟΘ - ΟΠΣΘ
BEGIN:VEVENT
DTSTART;TZID=Europe/Athens:20251029T083000
DTEND;TZID=Europe/Athens:20251104T120000
DTSTAMP:20260420T083930
CREATED:20251029T173300Z
LAST-MODIFIED:20251029T173353Z
UID:4820-1761726600-1762257600@eskoth.gr
SUMMARY:ΕΣΚΟΘ Σταθερός Στόχος 01 Νοεμβρίου 2025
DESCRIPTION:Το Σάββατο 01 Νοεμβρίου 2025 και ώρα 08:30π.μ.  ο ΕΣΚΟΘ διοργανώνει αγώνες σταθερού στο σκοπευτήριο Νάρρες.\n\n[tt_timetable event='pistoli-standard-022\,kentriki-pyrodotisi\,sport-pistoli' columns='saturday' filter_style='tabs' filter_label='ΟΛΑ' hide_hours_column='0' show_end_hour='1' measure='1' event_layout='3' collapse_event_hours_responsive='1']\n\n
URL:http://eskoth.gr/event/%ce%b5%cf%83%ce%ba%ce%bf%ce%b8-%cf%83%cf%84%ce%b1%ce%b8%ce%b5%cf%81%cf%8c%cf%82-%cf%83%cf%84%cf%8c%cf%87%ce%bf%cf%82-01-%ce%bd%ce%bf%ce%b5%ce%bc%ce%b2%cf%81%ce%b9%ce%bf%cf%85-2025/
LOCATION:ΕΟ θεσσαλονικης κιλκις\, Θεσσαλονίκη\, Νάρρες\, Greece
CATEGORIES:Αγώνες
ORGANIZER;CN="%CE%95%CE%A3%CE%9A%CE%9F%CE%98":MAILTO:eskoth.opsth@gmail.com
END:VEVENT
END:VCALENDAR