BEGIN:VCALENDAR
VERSION:2.0
PRODID:-//ΕΣΚΟΘ - ΟΠΣΘ - ECPv4.5.0.2//NONSGML v1.0//EN
CALSCALE:GREGORIAN
METHOD:PUBLISH
X-WR-CALNAME:ΕΣΚΟΘ - ΟΠΣΘ
X-ORIGINAL-URL:http://eskoth.gr
X-WR-CALDESC:Events for ΕΣΚΟΘ - ΟΠΣΘ
BEGIN:VEVENT
DTSTART;TZID=Europe/Athens:20230129T090000
DTEND;TZID=Europe/Athens:20230129T110000
DTSTAMP:20260420T161145
CREATED:20230125T072413Z
LAST-MODIFIED:20230125T072413Z
UID:4314-1674982800-1674990000@eskoth.gr
SUMMARY:Μ.Λ.Π.Σ. Level I
DESCRIPTION:Η Μ.Λ.Π.Σ. διοργανώνει Αγώνα Πρακτικής Σκοποβολής (handgun)\, επιπέδου Ι\, Κυριακή 29 Ιανουαρίου 2023 και ώρα 09:00\, στο σκοπευτήριο Νάρρες Πενταλόφου.\n\n\n\n\n[tt_timetable event='praktiki-skopoboli-i' columns='sunday' filter_style='tabs' filter_label='ΟΛΑ' hide_hours_column='0' show_end_hour='1' measure='1' event_layout='3' collapse_event_hours_responsive='1']\n\n
URL:http://eskoth.gr/event/%ce%bc-%ce%bb-%cf%80-%cf%83-level/
LOCATION:ΕΟ θεσσαλονικης κιλκις\, Θεσσαλονίκη\, Νάρρες\, Greece
CATEGORIES:Αγώνες
END:VEVENT
END:VCALENDAR