BEGIN:VCALENDAR
VERSION:2.0
PRODID:-//ΕΣΚΟΘ - ΟΠΣΘ - ECPv4.5.0.2//NONSGML v1.0//EN
CALSCALE:GREGORIAN
METHOD:PUBLISH
X-WR-CALNAME:ΕΣΚΟΘ - ΟΠΣΘ
X-ORIGINAL-URL:http://eskoth.gr
X-WR-CALDESC:Events for ΕΣΚΟΘ - ΟΠΣΘ
BEGIN:VEVENT
DTSTART;TZID=Europe/Athens:20251103T090000
DTEND;TZID=Europe/Athens:20251123T160000
DTSTAMP:20260420T105743
CREATED:20250618T185125Z
LAST-MODIFIED:20251103T210222Z
UID:4792-1762160400-1763913600@eskoth.gr
SUMMARY:ΟΠΣΘ Level I 09.11.2025
DESCRIPTION:Ο Ο.Π.Σ.Θ. διοργανώνει αγώνα Πρακτικής Σκοποβολής Level I Handgun & PCC την Κυριακή 09 ΝΟΕΜΒΡΙΟΥ 2025 στο σκοπευτήριο Νάρρες.\n\nΦυσίγγια: 86\n\nΣτάδια: 6\n\n \n\n[tt_timetable event='praktiki-skopoboli-i' columns='sunday' filter_style='tabs' filter_label='ΟΛΑ' hide_hours_column='0' show_end_hour='1' measure='1' event_layout='3' collapse_event_hours_responsive='1']\n\n \n\n \n\n
URL:http://eskoth.gr/event/%ce%bf%cf%80%cf%83%ce%b8-level-i-09-11-2025/
LOCATION:ΕΟ θεσσαλονικης κιλκις\, Θεσσαλονίκη\, Νάρρες\, Greece
CATEGORIES:Αγώνες
ORGANIZER;CN="%CE%9F%CE%A0%CE%A3%CE%98":MAILTO:eskoth.opsth@gmail.com
END:VEVENT
END:VCALENDAR