BEGIN:VCALENDAR
VERSION:2.0
PRODID:-//ΕΣΚΟΘ - ΟΠΣΘ - ECPv4.5.0.2//NONSGML v1.0//EN
CALSCALE:GREGORIAN
METHOD:PUBLISH
X-WR-CALNAME:ΕΣΚΟΘ - ΟΠΣΘ
X-ORIGINAL-URL:http://eskoth.gr
X-WR-CALDESC:Events for ΕΣΚΟΘ - ΟΠΣΘ
BEGIN:VEVENT
DTSTART;TZID=Europe/Athens:20221001T080000
DTEND;TZID=Europe/Athens:20221001T120000
DTSTAMP:20260421T153027
CREATED:20220926T163833Z
LAST-MODIFIED:20220926T170206Z
UID:4205-1664611200-1664625600@eskoth.gr
SUMMARY:ΕΣΚΟΘ Σταθερός Στόχος 01 ΟΚΤΩΒΡΙΟΥ 2022
DESCRIPTION: \nΤο Σάββατο 01 Οκτωβρίου 2022 ο ΕΣΚΟΘ διοργανώνει αγώνες σταθερού στόχου στο Πεδίο Βολής Νάρρες.\n\n \n\n \n\n[tt_timetable event='pistoli-standard-022\,kentriki-pyrodotisi\,sport-pistoli' columns='saturday\,sunday' filter_style='tabs' filter_label='ΟΛΑ' hide_hours_column='0' show_end_hour='1' measure='1' event_layout='3' collapse_event_hours_responsive='1']\n\n
URL:http://eskoth.gr/event/01102022/
LOCATION:ΕΟ θεσσαλονικης κιλκις\, Θεσσαλονίκη\, Νάρρες\, Greece
CATEGORIES:Αγώνες
ORGANIZER;CN="%CE%95%CE%A3%CE%9A%CE%9F%CE%98":MAILTO:eskoth.opsth@gmail.com
END:VEVENT
END:VCALENDAR