BEGIN:VCALENDAR
VERSION:2.0
PRODID:-//ΕΣΚΟΘ - ΟΠΣΘ - ECPv4.5.0.2//NONSGML v1.0//EN
CALSCALE:GREGORIAN
METHOD:PUBLISH
X-WR-CALNAME:ΕΣΚΟΘ - ΟΠΣΘ
X-ORIGINAL-URL:http://eskoth.gr
X-WR-CALDESC:Events for ΕΣΚΟΘ - ΟΠΣΘ
BEGIN:VEVENT
DTSTART;TZID=Europe/Athens:20230205T090000
DTEND;TZID=Europe/Athens:20230205T110000
DTSTAMP:20260420T143737
CREATED:20230201T092218Z
LAST-MODIFIED:20230201T092218Z
UID:4319-1675587600-1675594800@eskoth.gr
SUMMARY:ΣΛΘ LEVEL I σύνδ. ΣΑΡΙΣΑ
DESCRIPTION:Την Κυριακή 05 Φεβρουαρίου 2023 η Σκοπευτική Λέσχη Θεσσαλονίκης ΣΛΘ σε συνδιοργάνωση ΣΑΡΙΣΑ διοργανώνει αγώνα Level  I στο σκοπευτήριο Νάρρες.\n\nΣτάδια 6\n\nΦυσίγγια 112\n\nΠαράβολο Εγγραφής: 15€\n\n \n\n[tt_timetable event='praktiki-skopoboli-i' columns='sunday' filter_style='tabs' filter_label='ΟΛΑ' hide_hours_column='0' show_end_hour='1' measure='1' event_layout='3' collapse_event_hours_responsive='1']\n\n
URL:http://eskoth.gr/event/050223/
LOCATION:Greece
CATEGORIES:Αγώνες
END:VEVENT
END:VCALENDAR