BEGIN:VCALENDAR
VERSION:2.0
PRODID:-//ΕΣΚΟΘ - ΟΠΣΘ - ECPv4.5.0.2//NONSGML v1.0//EN
CALSCALE:GREGORIAN
METHOD:PUBLISH
X-WR-CALNAME:ΕΣΚΟΘ - ΟΠΣΘ
X-ORIGINAL-URL:http://eskoth.gr
X-WR-CALDESC:Events for ΕΣΚΟΘ - ΟΠΣΘ
BEGIN:VEVENT
DTSTART;TZID=Europe/Athens:20231201T160000
DTEND;TZID=Europe/Athens:20231203T130000
DTSTAMP:20260420T005520
CREATED:20231125T153517Z
LAST-MODIFIED:20231125T153517Z
UID:4443-1701446400-1701608400@eskoth.gr
SUMMARY:ΕΣΚΟΘ Αγώνες Αεροβόλων 01-03 Δεκεμβρίου 2023
DESCRIPTION:Την Παρασκευή 1 Δεκεμβρίου\, το Σάββατο 2 Δεκεμβρίου και την Κυριακή 3 Δεκεμβρίου 2023 ο ΕΣΚΟΘ διοργανώνει αγώνες αεροβόλων όπλων Α' κατηγορίας ΑΓΕΝ Παίδων A-Παίδων Β'- "Κύπελλο Μακεδονίας"\, στο σκοπευτήριο Παύλου Μελά στην Σταυρούπολη.\n\nΠΡΟΚΗΡΥΞΗ ΑΕΡΟΒΟΛΩΝ 01\,02 & 03 ΔΕΚΕΜΒΡΙΟΥ 2023\n\n \n\n[tt_timetable event='agones-aerobolon' columns='saturday\,sunday' filter_style='tabs' filter_label='ΟΛΑ' hide_hours_column='0' show_end_hour='1' measure='1' event_layout='3' collapse_event_hours_responsive='1']
URL:http://eskoth.gr/event/aerovola2023/
LOCATION:Λεβαντή 4\, Θεσσαλονίκη\, Σταυρούπολη\, 54629\, Greece
CATEGORIES:Αγώνες
ORGANIZER;CN="%CE%95%CE%A3%CE%9A%CE%9F%CE%98":MAILTO:eskoth.opsth@gmail.com
END:VEVENT
END:VCALENDAR