BEGIN:VCALENDAR
VERSION:2.0
PRODID:-//ΕΣΚΟΘ - ΟΠΣΘ - ECPv4.5.0.2//NONSGML v1.0//EN
CALSCALE:GREGORIAN
METHOD:PUBLISH
X-WR-CALNAME:ΕΣΚΟΘ - ΟΠΣΘ
X-ORIGINAL-URL:http://eskoth.gr
X-WR-CALDESC:Events for ΕΣΚΟΘ - ΟΠΣΘ
BEGIN:VEVENT
DTSTART;TZID=Europe/Athens:20221203T090000
DTEND;TZID=Europe/Athens:20221204T130000
DTSTAMP:20260421T040008
CREATED:20221121T133532Z
LAST-MODIFIED:20221125T174111Z
UID:4238-1670058000-1670158800@eskoth.gr
SUMMARY:ΕΣΚΟΘ Αγώνες Αεροβόλων
DESCRIPTION:Το Σάββατο 3 Δεκεμβρίου και την Κυριακή 4 Δεκεμβρίου 2022 ο ΕΣΚΟΘ διοργανώνει αγώνες αεροβόλων όπλων Α' κατηγορίας ΑΓΕΝ Παίδων A-Παίδων Β'- "Κύπελλο Μακεδονίας - Βασίλειος Δέλιος"\, στο σκοπευτήριο Παύλου Μελά στην Σταυρούπολη. Δείτε την προκήρυξη εδώ.\n\n[tt_timetable event='agones-aerobolon' columns='saturday\,sunday' filter_style='tabs' filter_label='ΟΛΑ' hide_hours_column='0' show_end_hour='1' measure='1' event_layout='3' collapse_event_hours_responsive='1']
URL:http://eskoth.gr/event/agones-aerobolon-2022/
LOCATION:Λεβαντή 4\, Θεσσαλονίκη\, Σταυρούπολη\, 54629\, Greece
CATEGORIES:Αγώνες
ORGANIZER;CN="%CE%95%CE%A3%CE%9A%CE%9F%CE%98":MAILTO:eskoth.opsth@gmail.com
END:VEVENT
END:VCALENDAR