BEGIN:VCALENDAR
VERSION:2.0
PRODID:-//ΕΣΚΟΘ - ΟΠΣΘ - ECPv4.5.0.2//NONSGML v1.0//EN
CALSCALE:GREGORIAN
METHOD:PUBLISH
X-WR-CALNAME:ΕΣΚΟΘ - ΟΠΣΘ
X-ORIGINAL-URL:http://eskoth.gr
X-WR-CALDESC:Events for ΕΣΚΟΘ - ΟΠΣΘ
BEGIN:VEVENT
DTSTART;TZID=Europe/Athens:20230115T090000
DTEND;TZID=Europe/Athens:20230115T110000
DTSTAMP:20260420T232851
CREATED:20230111T083501Z
LAST-MODIFIED:20230111T083635Z
UID:4307-1673773200-1673780400@eskoth.gr
SUMMARY:ΑΣΟΛΠ Level Ι 15 ΙΑΝΟΥΑΡΙΟΥ 2023
DESCRIPTION:Ο Α.Σ.Ο. ΛΕΥΚΟΣ ΠΥΡΓΟΣ διοργανώνει Αγώνα Πρακτικής Σκοποβολής (handgun)\, επιπέδου Ι\, Κυριακή 15 Ιανουαρίου 2023 και ώρα 09:00\, στο σκοπευτήριο Νάρρες Πενταλόφου.\n\n Στάδια: 6\nΦυσίγγια: 98\nΠαράβολο εγγραφής: 15€\n\n\n[tt_timetable event='praktiki-skopoboli-i' columns='sunday' filter_style='tabs' filter_label='ΟΛΑ' hide_hours_column='0' show_end_hour='1' measure='1' event_layout='3' collapse_event_hours_responsive='1']\n\n
URL:http://eskoth.gr/event/asolp-15-01-23/
LOCATION:ΕΟ θεσσαλονικης κιλκις\, Θεσσαλονίκη\, Νάρρες\, Greece
CATEGORIES:Αγώνες
END:VEVENT
END:VCALENDAR