BEGIN:VCALENDAR
VERSION:2.0
PRODID:-//ΕΣΚΟΘ - ΟΠΣΘ - ECPv4.5.0.2//NONSGML v1.0//EN
CALSCALE:GREGORIAN
METHOD:PUBLISH
X-WR-CALNAME:ΕΣΚΟΘ - ΟΠΣΘ
X-ORIGINAL-URL:http://eskoth.gr
X-WR-CALDESC:Events for ΕΣΚΟΘ - ΟΠΣΘ
BEGIN:VEVENT
DTSTART;TZID=Europe/Athens:20221009T090000
DTEND;TZID=Europe/Athens:20221009T110000
DTSTAMP:20260421T134058
CREATED:20220912T193205Z
LAST-MODIFIED:20220912T195157Z
UID:4172-1665306000-1665313200@eskoth.gr
SUMMARY:ΑΣΟΛΠ Level Ι
DESCRIPTION:Ο Α.Σ.Ο. ΛΕΥΚΟΣ ΠΥΡΓΟΣ διοργανώνει Αγώνα Πρακτικής Σκοποβολής (handgun)\, επιπέδου Ι\, Κυριακή 09 Οκτωβρίου 2022 και ώρα 09:00\, στο σκοπευτήριο Νάρρες Πενταλόφου.\n\n\n\n\n[tt_timetable event='praktiki-skopoboli-i' columns='sunday' filter_style='tabs' filter_label='ΟΛΑ' hide_hours_column='0' show_end_hour='1' measure='1' event_layout='3' collapse_event_hours_responsive='1']\n\n
URL:http://eskoth.gr/event/asolp091022/
LOCATION:ΕΟ θεσσαλονικης κιλκις\, Θεσσαλονίκη\, Νάρρες\, Greece
CATEGORIES:Αγώνες
END:VEVENT
END:VCALENDAR