BEGIN:VCALENDAR
VERSION:2.0
PRODID:-//ΕΣΚΟΘ - ΟΠΣΘ - ECPv4.5.0.2//NONSGML v1.0//EN
CALSCALE:GREGORIAN
METHOD:PUBLISH
X-WR-CALNAME:ΕΣΚΟΘ - ΟΠΣΘ
X-ORIGINAL-URL:http://eskoth.gr
X-WR-CALDESC:Events for ΕΣΚΟΘ - ΟΠΣΘ
BEGIN:VEVENT
DTSTART;TZID=Europe/Athens:20211106T080000
DTEND;TZID=Europe/Athens:20211107T120000
DTSTAMP:20260422T192128
CREATED:20211101T201616Z
LAST-MODIFIED:20211101T201727Z
UID:3988-1636185600-1636286400@eskoth.gr
SUMMARY:ΕΣΚΟΘ Σταθερός Στόχος 06-07 Νοεμβρίου 2021
DESCRIPTION:Το Σάββατο 06 Νοεμβρίου και την Κυριακή 07 Νοεμβρίου 2021 ο ΕΣΚΟΘ διοργανώνει αγώνες σταθερού στόχου στο Πεδίο Βολής Νάρρες.\n\nΓια τον έλεγχο Covid-19\, ισχύουν οι οδηγίες: https://www.skoe.gr/index.php/grafeio-typoy/genikes-anakoinoseis/1363-testing-25-10-8-11-2021\n\n \n\n[tt_timetable event='pistoli-standard-022\,kentriki-pyrodotisi\,sport-pistoli' columns='saturday\,sunday' filter_style='tabs' filter_label='ΟΛΑ' hide_hours_column='0' show_end_hour='1' measure='1' event_layout='3' collapse_event_hours_responsive='1']\n\n
URL:http://eskoth.gr/event/eskoth-6-7-11-21/
LOCATION:ΕΟ θεσσαλονικης κιλκις\, Θεσσαλονίκη\, Νάρρες\, Greece
CATEGORIES:Αγώνες
ORGANIZER;CN="%CE%95%CE%A3%CE%9A%CE%9F%CE%98":MAILTO:eskoth.opsth@gmail.com
END:VEVENT
END:VCALENDAR