BEGIN:VCALENDAR
VERSION:2.0
PRODID:-//ΕΣΚΟΘ - ΟΠΣΘ - ECPv4.5.0.2//NONSGML v1.0//EN
CALSCALE:GREGORIAN
METHOD:PUBLISH
X-WR-CALNAME:ΕΣΚΟΘ - ΟΠΣΘ
X-ORIGINAL-URL:http://eskoth.gr
X-WR-CALDESC:Events for ΕΣΚΟΘ - ΟΠΣΘ
BEGIN:VEVENT
DTSTART;TZID=Europe/Athens:20220319T083000
DTEND;TZID=Europe/Athens:20220319T120000
DTSTAMP:20260422T155215
CREATED:20220314T183005Z
LAST-MODIFIED:20220314T183134Z
UID:4059-1647678600-1647691200@eskoth.gr
SUMMARY:ΕΣΚΟΘ Σταθερός Στόχος Σάββατο 19 Μαρτίου 2022
DESCRIPTION:Το Σάββατο 19 Μαρτίου 2022 ο ΕΣΚΟΘ διοργανώνει αγώνες σταθερού στόχου στο Πεδίο Βολής Νάρρες.\n\nΓια τον έλεγχο Covid-19:\nΠιστοποιητικά εμβολιασμού\, νόσησης και rapid-test μέχρι 48 ώρες για τους ανεμβολίαστους\, όλα σε έντυπη μορφή.\n\n[tt_timetable event='pistoli-standard-022\,kentriki-pyrodotisi\,sport-pistoli' columns='saturday\,sunday' filter_style='tabs' filter_label='ΟΛΑ' hide_hours_column='0' show_end_hour='1' measure='1' event_layout='3' collapse_event_hours_responsive='1']\n\n
URL:http://eskoth.gr/event/eskoth-statheros-stoxos-19032022/
LOCATION:ΕΟ θεσσαλονικης κιλκις\, Θεσσαλονίκη\, Νάρρες\, Greece
CATEGORIES:Αγώνες
ORGANIZER;CN="%CE%95%CE%A3%CE%9A%CE%9F%CE%98":MAILTO:eskoth.opsth@gmail.com
END:VEVENT
END:VCALENDAR