BEGIN:VCALENDAR
VERSION:2.0
PRODID:-//ΕΣΚΟΘ - ΟΠΣΘ - ECPv4.5.0.2//NONSGML v1.0//EN
CALSCALE:GREGORIAN
METHOD:PUBLISH
X-WR-CALNAME:ΕΣΚΟΘ - ΟΠΣΘ
X-ORIGINAL-URL:http://eskoth.gr
X-WR-CALDESC:Events for ΕΣΚΟΘ - ΟΠΣΘ
BEGIN:VEVENT
DTSTART;TZID=Europe/Athens:20230219T090000
DTEND;TZID=Europe/Athens:20230219T160000
DTSTAMP:20260420T111527
CREATED:20230213T101255Z
LAST-MODIFIED:20230213T101255Z
UID:4324-1676797200-1676822400@eskoth.gr
SUMMARY:ΟΠΣΘ συνδ. ΖΕΥΣ Level I
DESCRIPTION:Ο Ο.Π.Σ.Θ. σε συνδιοργάνωση ΖΕΥΣ\, διοργανώνει αγώνα Πρακτικής Σκοποβολής Level I την Κυριακή 19 Φεβρουαρίου 2022 στο σκοπευτήριο Νάρρες.\n\nΦυσίγγια: 76\n\nΣτάδια: 5\n\n \n\n[tt_timetable event='praktiki-skopoboli-i' columns='sunday' filter_style='tabs' filter_label='ΟΛΑ' hide_hours_column='0' show_end_hour='1' measure='1' event_layout='3' collapse_event_hours_responsive='1']\n\n \n\n \n\n
URL:http://eskoth.gr/event/opsth-19-2-23/
LOCATION:ΕΟ θεσσαλονικης κιλκις\, Θεσσαλονίκη\, Νάρρες\, Greece
CATEGORIES:Αγώνες
ORGANIZER;CN="%CE%9F%CE%A0%CE%A3%CE%98":MAILTO:eskoth.opsth@gmail.com
END:VEVENT
END:VCALENDAR