BEGIN:VCALENDAR
VERSION:2.0
PRODID:-//ΕΣΚΟΘ - ΟΠΣΘ - ECPv4.5.0.2//NONSGML v1.0//EN
CALSCALE:GREGORIAN
METHOD:PUBLISH
X-WR-CALNAME:ΕΣΚΟΘ - ΟΠΣΘ
X-ORIGINAL-URL:http://eskoth.gr
X-WR-CALDESC:Events for ΕΣΚΟΘ - ΟΠΣΘ
BEGIN:VEVENT
DTSTART;TZID=Europe/Athens:20210829T090000
DTEND;TZID=Europe/Athens:20210829T110000
DTSTAMP:20260423T013958
CREATED:20210823T174818Z
LAST-MODIFIED:20210823T175004Z
UID:3921-1630227600-1630234800@eskoth.gr
SUMMARY:ΟΠΣΘ Level I
DESCRIPTION:Την Κυριακή 29 Αυγούστου 2021 ο ΟΠΣΘ διοργανώνει αγώνα Level  I.\n\nΟ αγώνας θα έχει 5 στάδια με ελάχιστο αριθμό φυσιγγίων: 75\n\nΣτους νικητές θα απονεμηθούν μετάλλια και διπλώματα.\n\n[tt_timetable event='praktiki-skopoboli-i' columns='sunday' filter_style='tabs' filter_label='ΟΛΑ' hide_hours_column='0' show_end_hour='1' measure='1' event_layout='3' collapse_event_hours_responsive='1']\n\nΓια τον έλεγχο Covid-19\, ισχύουν οι οδηγίες https://www.skoe.gr/index.php/grafeio-typoy/genikes-anakoinoseis/1316-testing-23-30-8-2021 :\n\nΓια τα αθλήματα όλων των επιπέδων επικινδυνότητας\, εξακολουθούν να ισχύουν σχετικά με τους διαγνωστικούς ελέγχους (testing) πριν από διασυλλογικούς αγώνες\, όλα όσα περιγράφονται στο υπ’ αριθ. πρωτ. 5722/12.7.2021 έγγραφο ΣΚ.Ο.Ε.\, δηλαδή:\n\n \tΑπό τους προληπτικούς ελέγχους με τεστ αντιγόνου COVID-19\, εξαιρούνται όσοι προσκομίζουν πιστοποιητικό εμβολιασμού ή πιστοποιητικό νόσησης (εκδίδεται 30 ημέρες μετά τον πρώτο θετικό έλεγχο και ισχύει έως 180 ημέρες μετά τη νόσηση).\n\n\n \tΓια αθλητές – αθλήτριες έως και 17 ετών\, εκτός από τη διενέργεια εργαστηριακών τεστ (PCR και rapid) έως 48 ωρών παρέχεται και η δυνατότητα διεξαγωγής self test παρουσία του υπεύθυνου CΟVID19 του Σωματείου στο οποίο είναι εγγεγραμμένος την ημέρα του αγώνα.\n\n\n \tΓια αθλητές – αθλήτριες 18 ετών και άνω\, απαιτείται αποκλειστικά διενέργεια εργαστηριακών τεστ (PCR και rapid) έως 48 ωρών και όχι self test.\n\n\n \tΑν υπάρχουν διαδοχικές μέρες αγώνες\, π.χ. Παρ-Σαβ-Κυρ\, 1 τεστ πριν τον πρώτο αγώνα. Αν οι αγωνιστικές μέρες είναι πάνω από τρεις (3) τότε 1 τεστ ανά τρία (3) 24ωρα.\n\nTα αποτέλεσμα του ελέγχων self test\, rapid test ή μοριακού test PCR\, καθώς και τα σχετικά πιστοποιητικά εμβολιασμού ή νόσησης\,  θα πρέπει:\n\n \tνα προσκομίζονται έντυπα ή ηλεκτρονικά από τους ενδιαφερόμενους στον ορισμένο υπεύθυνο Covid-19 του Σωματείου τους και μόνον\, ο οποίος διατηρεί φυσικό ή ηλεκτρονικό αρχείο έως και 4 μήνες μετά την προσκόμιση των ανωτέρω εγγράφων.\n \tο υπεύθυνος Covid-19 του Σωματείου δηλώνει με τη σειρά του εγγράφως ή με email\, στον εκάστοτε υπεύθυνο Covid-19 του διοργανωτή Συλλόγου\, τους αθλητές και αθλήτριες που πρόκειται να λάβουν μέρος\, το είδος του τεστ\, το αποτέλεσμα και όσοι έχουν εμβολιασθεί ή νοσήσει το αντίστοιχο πιστοποιητικό.\n\n
URL:http://eskoth.gr/event/opsth-level-i-29082021/
LOCATION:ΕΟ θεσσαλονικης κιλκις\, Θεσσαλονίκη\, Νάρρες\, Greece
CATEGORIES:Αγώνες
ORGANIZER;CN="%CE%9F%CE%A0%CE%A3%CE%98":MAILTO:eskoth.opsth@gmail.com
END:VEVENT
END:VCALENDAR