BEGIN:VCALENDAR
VERSION:2.0
PRODID:-//ΕΣΚΟΘ - ΟΠΣΘ - ECPv4.5.0.2//NONSGML v1.0//EN
CALSCALE:GREGORIAN
METHOD:PUBLISH
X-WR-CALNAME:ΕΣΚΟΘ - ΟΠΣΘ
X-ORIGINAL-URL:http://eskoth.gr
X-WR-CALDESC:Events for ΕΣΚΟΘ - ΟΠΣΘ
BEGIN:VEVENT
DTSTART;TZID=Europe/Athens:20211114T090000
DTEND;TZID=Europe/Athens:20211114T160000
DTSTAMP:20260422T173324
CREATED:20211109T120941Z
LAST-MODIFIED:20211109T121406Z
UID:3992-1636880400-1636905600@eskoth.gr
SUMMARY:ΟΠΣΘ Level I
DESCRIPTION:Την Κυριακή 14 Νοεμβρίου 2021 ο ΟΠΣΘ διοργανώνει αγώνα Level  I.\n\nΟ αγώνας θα έχει 5 στάδια με ελάχιστο αριθμό φυσιγγίων: 80\n\nΣτους νικητές θα απονεμηθούν μετάλλια και διπλώματα.\n\n[tt_timetable event='praktiki-skopoboli-i' columns='sunday' filter_style='tabs' filter_label='ΟΛΑ' hide_hours_column='0' show_end_hour='1' measure='1' event_layout='3' collapse_event_hours_responsive='1']\n\nΓια τον έλεγχο Covid-19\, ισχύουν οι οδηγίες https://www.skoe.gr/index.php/grafeio-typoy/genikes-anakoinoseis/1376-testing-6-11-22-11-2021\n\n \n\n \n\n
URL:http://eskoth.gr/event/opsth-leveli-14-11-21/
LOCATION:ΕΟ θεσσαλονικης κιλκις\, Θεσσαλονίκη\, Νάρρες\, Greece
CATEGORIES:Αγώνες
ORGANIZER;CN="%CE%9F%CE%A0%CE%A3%CE%98":MAILTO:eskoth.opsth@gmail.com
END:VEVENT
END:VCALENDAR