BEGIN:VCALENDAR
VERSION:2.0
PRODID:-//ΕΣΚΟΘ - ΟΠΣΘ - ECPv4.5.0.2//NONSGML v1.0//EN
CALSCALE:GREGORIAN
METHOD:PUBLISH
X-WR-CALNAME:ΕΣΚΟΘ - ΟΠΣΘ
X-ORIGINAL-URL:http://eskoth.gr
X-WR-CALDESC:Events for ΕΣΚΟΘ - ΟΠΣΘ
BEGIN:VEVENT
DTSTART;TZID=Europe/Athens:20230319T090000
DTEND;TZID=Europe/Athens:20230319T090000
DTSTAMP:20260420T064036
CREATED:20230316T065643Z
LAST-MODIFIED:20230316T065643Z
UID:4349-1679216400-1679216400@eskoth.gr
SUMMARY:ΣΑΡΙΣΑ Level I 19.3.23
DESCRIPTION:Η ΣΑΡΙΣΑ  διοργανώνει Αγώνα Πρακτικής Σκοποβολής LEVEL I την Κυριακή 19 Μαρτίου και ώρα 9:00 στο Σκοπευτήριο Νάρρες\n\nΣτάδια: 6\n\nΦυσίγγια: 92\n\nΠαράβολο εγγραφής: 15 ευρώ\n\n \n\n[tt_timetable event='praktiki-skopoboli-i' columns='sunday' filter_style='tabs' filter_label='ΟΛΑ' hide_hours_column='0' show_end_hour='1' measure='1' event_layout='3' collapse_event_hours_responsive='1']\n\n
URL:http://eskoth.gr/event/sarisa-level-i-19-3-23/
LOCATION:ΕΟ θεσσαλονικης κιλκις\, Θεσσαλονίκη\, Νάρρες\, Greece
CATEGORIES:Αγώνες
END:VEVENT
END:VCALENDAR