BEGIN:VCALENDAR
VERSION:2.0
PRODID:-//ΕΣΚΟΘ - ΟΠΣΘ - ECPv4.5.0.2//NONSGML v1.0//EN
CALSCALE:GREGORIAN
METHOD:PUBLISH
X-WR-CALNAME:ΕΣΚΟΘ - ΟΠΣΘ
X-ORIGINAL-URL:http://eskoth.gr
X-WR-CALDESC:Events for ΕΣΚΟΘ - ΟΠΣΘ
BEGIN:VEVENT
DTSTART;TZID=Europe/Athens:20220605T090000
DTEND;TZID=Europe/Athens:20220605T120000
DTSTAMP:20260422T030108
CREATED:20210917T100621Z
LAST-MODIFIED:20220601T183428Z
UID:3140-1654419600-1654430400@eskoth.gr
SUMMARY:ΣΑΡΙΣΑ Level I
DESCRIPTION:Η ΣΑΡΙΣΑ  διοργανώνει Αγώνα Πρακτικής Σκοποβολής LEVEL I την Κυριακή 05 Ιουνίου και ώρα 9:00 στο Σκοπευτήριο Νάρρες:\n\nΣτάδια: 5\n\nΦυσίγγια: 88\n\nΠαράβολο εγγραφής: 15 ευρώ\n\n \n\n[tt_timetable event='praktiki-skopoboli-i' columns='sunday' filter_style='tabs' filter_label='ΟΛΑ' hide_hours_column='0' show_end_hour='1' measure='1' event_layout='3' collapse_event_hours_responsive='1']\n\n
URL:http://eskoth.gr/event/sarisa-level1-03/
LOCATION:ΕΟ θεσσαλονικης κιλκις\, Θεσσαλονίκη\, Νάρρες\, Greece
CATEGORIES:Αγώνες
END:VEVENT
END:VCALENDAR