BEGIN:VCALENDAR
VERSION:2.0
PRODID:-//ΕΣΚΟΘ - ΟΠΣΘ - ECPv4.5.0.2//NONSGML v1.0//EN
CALSCALE:GREGORIAN
METHOD:PUBLISH
X-WR-CALNAME:ΕΣΚΟΘ - ΟΠΣΘ
X-ORIGINAL-URL:http://eskoth.gr
X-WR-CALDESC:Events for ΕΣΚΟΘ - ΟΠΣΘ
BEGIN:VEVENT
DTSTART;TZID=Europe/Athens:20230212T090000
DTEND;TZID=Europe/Athens:20230212T110000
DTSTAMP:20260420T125352
CREATED:20230208T114636Z
LAST-MODIFIED:20230208T114643Z
UID:4322-1676192400-1676199600@eskoth.gr
SUMMARY:ΣΚΒΕ Level I
DESCRIPTION:O Σύλλογος Καταδρομέων Βορείου Ελλάδος ΣΚΒΕ διοργανώνει Αγώνα Πρακτικής Σκοποβολής LEVEL I  την Κυριακή 12 Φεβρουαρίου και ώρα 9:00 στο Σκοπευτήριο Νάρρες.\n\nΣτάδια: 6\n\nΦυσίγγια: 96\n\nΠαράβολο συμμετοχής: 15€\n\n \n\n[tt_timetable event='praktiki-skopoboli-i' columns='sunday' filter_style='tabs' filter_label='ΟΛΑ' hide_hours_column='0' show_end_hour='1' measure='1' event_layout='3' collapse_event_hours_responsive='1']\n\n
URL:http://eskoth.gr/event/skve-12-02-23/
LOCATION:ΕΟ θεσσαλονικης κιλκις\, Θεσσαλονίκη\, Νάρρες\, Greece
CATEGORIES:Αγώνες
END:VEVENT
END:VCALENDAR