BEGIN:VCALENDAR
VERSION:2.0
PRODID:-//ΕΣΚΟΘ - ΟΠΣΘ - ECPv4.5.0.2//NONSGML v1.0//EN
CALSCALE:GREGORIAN
METHOD:PUBLISH
X-WR-CALNAME:ΕΣΚΟΘ - ΟΠΣΘ
X-ORIGINAL-URL:http://eskoth.gr
X-WR-CALDESC:Events for ΕΣΚΟΘ - ΟΠΣΘ
BEGIN:VEVENT
DTSTART;TZID=Europe/Athens:20221211T090000
DTEND;TZID=Europe/Athens:20221211T110000
DTSTAMP:20260421T035128
CREATED:20220912T194350Z
LAST-MODIFIED:20221206T104355Z
UID:4186-1670749200-1670756400@eskoth.gr
SUMMARY:ΣΚΒΕ Level I
DESCRIPTION:O Σύλλογος Καταδρομέων Βορείου Ελλάδος ΣΚΒΕ διοργανώνει Αγώνα Πρακτικής Σκοποβολής LEVEL I  την Κυριακή 11 Δεκεμβρίου και ώρα 9:00 στο Σκοπευτήριο Νάρρες.\n\n \n\n \n\n[tt_timetable event='praktiki-skopoboli-i' columns='sunday' filter_style='tabs' filter_label='ΟΛΑ' hide_hours_column='0' show_end_hour='1' measure='1' event_layout='3' collapse_event_hours_responsive='1']\n\n
URL:http://eskoth.gr/event/skve111222/
LOCATION:ΕΟ θεσσαλονικης κιλκις\, Θεσσαλονίκη\, Νάρρες\, Greece
CATEGORIES:Αγώνες
END:VEVENT
END:VCALENDAR