BEGIN:VCALENDAR
VERSION:2.0
PRODID:-//ΕΣΚΟΘ - ΟΠΣΘ - ECPv4.5.0.2//NONSGML v1.0//EN
CALSCALE:GREGORIAN
METHOD:PUBLISH
X-WR-CALNAME:ΕΣΚΟΘ - ΟΠΣΘ
X-ORIGINAL-URL:http://eskoth.gr
X-WR-CALDESC:Events for ΕΣΚΟΘ - ΟΠΣΘ
BEGIN:VEVENT
DTSTART;TZID=Europe/Athens:20221218T090000
DTEND;TZID=Europe/Athens:20221218T110000
DTSTAMP:20260421T023716
CREATED:20220912T194536Z
LAST-MODIFIED:20221202T102552Z
UID:4188-1671354000-1671361200@eskoth.gr
SUMMARY:ΣΛΘ LEVEL I σύνδ. ΖΕΥΣ
DESCRIPTION:Την Κυριακή 18 Δεκεμβρίου 2022 η Σκοπευτική Λέσχη Θεσσαλονίκης ΣΛΘ σε συνδιοργάνωση ΖΕΥΣ διοργανώνει αγώνα Level  I στο σκοπευτήριο Νάρρες.\n\n[tt_timetable event='praktiki-skopoboli-i' columns='sunday' filter_style='tabs' filter_label='ΟΛΑ' hide_hours_column='0' show_end_hour='1' measure='1' event_layout='3' collapse_event_hours_responsive='1']\n\n
URL:http://eskoth.gr/event/slth181222/
LOCATION:Greece
CATEGORIES:Αγώνες
END:VEVENT
END:VCALENDAR