BEGIN:VCALENDAR
VERSION:2.0
PRODID:-//ΕΣΚΟΘ - ΟΠΣΘ - ECPv4.5.0.2//NONSGML v1.0//EN
CALSCALE:GREGORIAN
METHOD:PUBLISH
X-WR-CALNAME:ΕΣΚΟΘ - ΟΠΣΘ
X-ORIGINAL-URL:http://eskoth.gr
X-WR-CALDESC:Events for ΕΣΚΟΘ - ΟΠΣΘ
BEGIN:VEVENT
DTSTART;TZID=Europe/Athens:20220703T090000
DTEND;TZID=Europe/Athens:20220703T110000
DTSTAMP:20260421T221407
CREATED:20170707T193801Z
LAST-MODIFIED:20220629T173122Z
UID:2969-1656838800-1656846000@eskoth.gr
SUMMARY:ΣΟΘ Level I 03 ΙΟΥΛΙΟΥ 2022
DESCRIPTION:Την Κυριακή 03 Ιουλίου 2022 ο ΣΟΘ διοργανώνει αγώνα Level  I στο πεδίο βολής Νάρρες.\n\nΣτάδια:4\n\n\nΦυσίγγια:70\n\nΤα μέλη του Ε.ΣΚ.Ο.Θ. θα λάβουν μέρος με δικό τους οπλισμό. \n\nΤα μέλη του Ο.Π.Σ.Θ. μπορούν να λάβουν μέρος και με οπλισμό του Ο.Π.Σ.Θ.\n\n \n\n\n\n[tt_timetable event='praktiki-skopoboli-i' columns='sunday' filter_style='tabs' filter_label='ΟΛΑ' hide_hours_column='0' show_end_hour='1' measure='1' event_layout='3' collapse_event_hours_responsive='1']
URL:http://eskoth.gr/event/soth-level1-01/
LOCATION:ΕΟ θεσσαλονικης κιλκις\, Θεσσαλονίκη\, Νάρρες\, Greece
CATEGORIES:Αγώνες
END:VEVENT
END:VCALENDAR