BEGIN:VCALENDAR
VERSION:2.0
PRODID:-//ΕΣΚΟΘ - ΟΠΣΘ - ECPv4.5.0.2//NONSGML v1.0//EN
CALSCALE:GREGORIAN
METHOD:PUBLISH
X-WR-CALNAME:ΕΣΚΟΘ - ΟΠΣΘ
X-ORIGINAL-URL:http://eskoth.gr
X-WR-CALDESC:Events for ΕΣΚΟΘ - ΟΠΣΘ
BEGIN:VEVENT
DTSTART;TZID=Europe/Athens:20221120T090000
DTEND;TZID=Europe/Athens:20221120T110000
DTSTAMP:20260421T085917
CREATED:20220912T193811Z
LAST-MODIFIED:20220912T195127Z
UID:4180-1668934800-1668942000@eskoth.gr
SUMMARY:ΣΟΘ Level I
DESCRIPTION:Την Κυριακή 11 Νοεμβρίου 2022 ο ΣΟΘ διοργανώνει αγώνα Level  I στο σκοπευτήριο Νάρρες.\n\n[tt_timetable event='praktiki-skopoboli-i' columns='sunday' filter_style='tabs' filter_label='ΟΛΑ' hide_hours_column='0' show_end_hour='1' measure='1' event_layout='3' collapse_event_hours_responsive='1']\n\n
URL:http://eskoth.gr/event/soth201122/
LOCATION:Λεβαντή 4\, Θεσσαλονίκη\, Σταυρούπολη\, 54629\, Greece
CATEGORIES:Αγώνες
END:VEVENT
END:VCALENDAR