BEGIN:VCALENDAR
VERSION:2.0
PRODID:-//ΕΣΚΟΘ - ΟΠΣΘ - ECPv4.5.0.2//NONSGML v1.0//EN
CALSCALE:GREGORIAN
METHOD:PUBLISH
X-WR-CALNAME:ΕΣΚΟΘ - ΟΠΣΘ
X-ORIGINAL-URL:http://eskoth.gr
X-WR-CALDESC:Events for ΕΣΚΟΘ - ΟΠΣΘ
BEGIN:VEVENT
DTSTART;TZID=Europe/Athens:20230226T090000
DTEND;TZID=Europe/Athens:20230226T110000
DTSTAMP:20260420T094218
CREATED:20230222T110252Z
LAST-MODIFIED:20230222T110522Z
UID:4335-1677402000-1677409200@eskoth.gr
SUMMARY:ΣΟΘ Level I
DESCRIPTION:Την Κυριακή 26 Φεβρουαρίου 2023 ο ΣΟΘ διοργανώνει αγώνα Level  I στο σκοπευτήριο Νάρρες.\n\nΤα μέλη του Ε.ΣΚ.Ο.Θ. που επιθυμούν να συμμετέχουν στον αγώνα\, θα πρέπει να λάβουν μέρος με δικό τους οπλισμό καθώς ο όμιλος δεν θα ανεβάσει οπλισμό. \n\n[tt_timetable event='praktiki-skopoboli-i' columns='sunday' filter_style='tabs' filter_label='ΟΛΑ' hide_hours_column='0' show_end_hour='1' measure='1' event_layout='3' collapse_event_hours_responsive='1']\n\n
URL:http://eskoth.gr/event/soth26-02-23/
LOCATION:Λεβαντή 4\, Θεσσαλονίκη\, Σταυρούπολη\, 54629\, Greece
CATEGORIES:Αγώνες
END:VEVENT
END:VCALENDAR